BEGIN:VCALENDAR
VERSION:2.0
PRODID:-//CFA - Christus Forum Aichach - ECPv4.9.7//NONSGML v1.0//EN
CALSCALE:GREGORIAN
METHOD:PUBLISH
X-WR-CALNAME:CFA - Christus Forum Aichach
X-ORIGINAL-URL:https://www.cfa-christus-forum-aichach.de
X-WR-CALDESC:Veranstaltungen im CFA - Christus Forum Aichach
BEGIN:VTIMEZONE
TZID:"Europe/Berlin"
BEGIN:DAYLIGHT
TZOFFSETFROM:+0100
TZOFFSETTO:+0200
TZNAME:CEST
DTSTART:20260329T010000
END:DAYLIGHT
BEGIN:STANDARD
TZOFFSETFROM:+0200
TZOFFSETTO:+0100
TZNAME:CET
DTSTART:20261025T010000
END:STANDARD
END:VTIMEZONE
BEGIN:VEVENT
DTSTART;TZID="Europe/Berlin":20260426T100000
DTEND;TZID="Europe/Berlin":20260426T123000
DTSTAMP:20260424T121856
CREATED:20260309T105840Z
LAST-MODIFIED:20260309T105840Z
UID:4965-1777197600-1777206600@www.cfa-christus-forum-aichach.de
SUMMARY:Gottesdienst
DESCRIPTION:
URL:https://www.cfa-christus-forum-aichach.de/event/gottesdienst-15/
LOCATION:Christus Forum Aichach
CATEGORIES:TERMINE
END:VEVENT
BEGIN:VEVENT
DTSTART;TZID="Europe/Berlin":20260503T100000
DTEND;TZID="Europe/Berlin":20260503T123000
DTSTAMP:20260424T121857
CREATED:20260413T084811Z
LAST-MODIFIED:20260413T084811Z
UID:4976-1777802400-1777811400@www.cfa-christus-forum-aichach.de
SUMMARY:Gottesdienst
DESCRIPTION:
URL:https://www.cfa-christus-forum-aichach.de/event/gottesdienst-10/
LOCATION:Christus Forum Aichach
CATEGORIES:TERMINE
END:VEVENT
BEGIN:VEVENT
DTSTART;TZID="Europe/Berlin":20260510T103000
DTEND;TZID="Europe/Berlin":20260510T123000
DTSTAMP:20260424T121857
CREATED:20260413T095032Z
LAST-MODIFIED:20260413T095117Z
UID:4982-1778409000-1778416200@www.cfa-christus-forum-aichach.de
SUMMARY:Gottesdienst
DESCRIPTION:
URL:https://www.cfa-christus-forum-aichach.de/event/gottesdienst-17/
LOCATION:Christus Forum Aichach
CATEGORIES:TERMINE
END:VEVENT
BEGIN:VEVENT
DTSTART;TZID="Europe/Berlin":20260513T193000
DTEND;TZID="Europe/Berlin":20260513T210000
DTSTAMP:20260424T121857
CREATED:20260309T105157Z
LAST-MODIFIED:20260413T095611Z
UID:4959-1778700600-1778706000@www.cfa-christus-forum-aichach.de
SUMMARY:Gebetsabend für die ganze Gemeinde
DESCRIPTION:
URL:https://www.cfa-christus-forum-aichach.de/event/gebetsabend-fuer-die-ganze-gemeinde-2/
LOCATION:Christus Forum Aichach
CATEGORIES:TERMINE
END:VEVENT
BEGIN:VEVENT
DTSTART;TZID="Europe/Berlin":20260517T100000
DTEND;TZID="Europe/Berlin":20260517T123000
DTSTAMP:20260424T121857
CREATED:20260413T094826Z
LAST-MODIFIED:20260413T094938Z
UID:4980-1779012000-1779021000@www.cfa-christus-forum-aichach.de
SUMMARY:Gottesdienst
DESCRIPTION:
URL:https://www.cfa-christus-forum-aichach.de/event/gottesdienst-16/
LOCATION:Christus Forum Aichach
CATEGORIES:TERMINE
END:VEVENT
BEGIN:VEVENT
DTSTART;TZID="Europe/Berlin":20260524T100000
DTEND;TZID="Europe/Berlin":20260524T103000
DTSTAMP:20260424T121857
CREATED:20260413T095230Z
LAST-MODIFIED:20260413T095431Z
UID:4984-1779616800-1779618600@www.cfa-christus-forum-aichach.de
SUMMARY:Gottesdienst
DESCRIPTION:
URL:https://www.cfa-christus-forum-aichach.de/event/gottesdienst-18/
LOCATION:Christus Forum Aichach
CATEGORIES:TERMINE
END:VEVENT
BEGIN:VEVENT
DTSTART;TZID="Europe/Berlin":20260531T100000
DTEND;TZID="Europe/Berlin":20260531T103000
DTSTAMP:20260424T121857
CREATED:20260413T095326Z
LAST-MODIFIED:20260413T095413Z
UID:4986-1780221600-1780223400@www.cfa-christus-forum-aichach.de
SUMMARY:Gottesdienst
DESCRIPTION:
URL:https://www.cfa-christus-forum-aichach.de/event/gottesdienst-19/
LOCATION:Christus Forum Aichach
CATEGORIES:TERMINE
END:VEVENT
BEGIN:VEVENT
DTSTART;VALUE=DATE:20260612
DTEND;VALUE=DATE:20260615
DTSTAMP:20260424T121858
CREATED:20240622T104353Z
LAST-MODIFIED:20240622T104353Z
UID:4218-1781222400-1781481599@www.cfa-christus-forum-aichach.de
SUMMARY:Gemeindefreizeit am Achensee
DESCRIPTION:
URL:https://www.cfa-christus-forum-aichach.de/event/gemeindefreizeit-am-achensee/
CATEGORIES:BESONDERE EVENTS,TERMINE
END:VEVENT
END:VCALENDAR